BEGIN:VCALENDAR
VERSION:2.0
PRODID:-//Academica PRO - ECPv6.15.20//NONSGML v1.0//EN
CALSCALE:GREGORIAN
METHOD:PUBLISH
X-WR-CALNAME:Academica PRO
X-ORIGINAL-URL:https://demo.wpzoom.com/academica-pro-elementor
X-WR-CALDESC:Events for Academica PRO
REFRESH-INTERVAL;VALUE=DURATION:PT1H
X-Robots-Tag:noindex
X-PUBLISHED-TTL:PT1H
BEGIN:VTIMEZONE
TZID:UTC
BEGIN:STANDARD
TZOFFSETFROM:+0000
TZOFFSETTO:+0000
TZNAME:UTC
DTSTART:20250101T000000
END:STANDARD
END:VTIMEZONE
BEGIN:VEVENT
DTSTART;TZID=UTC:20261111T080000
DTEND;TZID=UTC:20261113T110000
DTSTAMP:20260422T183527
CREATED:20161007T181707Z
LAST-MODIFIED:20250904T163526Z
UID:5784-1794384000-1794567600@demo.wpzoom.com
SUMMARY:Homecoming and Reunion Weekend
DESCRIPTION:
URL:https://demo.wpzoom.com/academica-pro-elementor/event/homecoming-and-reunion-weekend/
END:VEVENT
END:VCALENDAR